{"text_format":"1","workbook":"xlsx","n_sheets":5,"sheets":["EMARGEMENT","LISTE","TAB 10 POULE","RELEVE","SCORE 10"],"not_rendered":{"charts":0,"images":6,"macros":1,"external_links":0,"defined_names":19,"comments":0,"pivot_tables":0},"unopened":[],"bounds":{"document_bytes":16777216,"sheet_cells":100000,"rows_first":2000,"rows_last":500,"rows_between":2000,"halvings":0,"cell_chars":16384,"cell_head_chars":4096},"cells_cut":0,"cells_raw":0,"read":"whole","date_system":"1900"}

{"sheet":"EMARGEMENT","index":0,"n_rows":28,"n_cols":21,"rows_kept":28,"cut":false,"hidden":false,"merged":[[15,17,15,21],[11,17,11,21],[12,17,12,21],[1,4,2,13],[1,14,3,14],[3,4,3,7],[3,8,3,12],[4,4,4,14],[5,4,5,14]]}
[]
[null,null,null,null,"APPELATION DU TOURNOI",null,null,null,null,null,null,null,null,null,"ORGANISATEUR",null,null,null,null,null,"IDENTITE DU TOURNOI"]
[null,null,null,null,null,null,null,null,null,null,null,null,null,null,null,null,null,null,null,"APPELATION TOURNOI"]
[null,null,null,null,"LIEU",null,null,null,{"$f":"IF(U6=\"\",\"DATE\",CONCATENATE(U7,\"-\",U8,\"/\",U6))","v":"DATE"},null,null,null,null,"GENRE",null,null,null,null,null,"LIEU"]
[null,null,null,null,"TYPE",null,null,null,null,null,null,null,null,null,null,null,null,null,null,"TYPE"]
[null,null,null,null,"FEUILLE EMARGEMENT",null,null,null,null,null,null,null,null,null,null,null,null,null,null,"ANNEE"]
[null,null,null,null,null,null,null,null,null,null,null,null,null,null,null,null,null,null,null,"DATE DEBUT"]
[null,null,null,null,null,null,null,null,null,null,null,null,null,null,null,null,null,null,null,"DATE FIN"]
[null,"N°",null,"NOM","PRENOM","LICENCE","CLUB","NOM","PRENOM","LICENCE","CLUB","pts","tir","SIGNATURE JOUEUR1","SIGNATURE JOUEUR2","PAIEMENT",null,null,null,"GENRE"]
[null,1,null,"T",null,null,null,1,null,null,null,null,null,null,null,null,null,null,null,"ORGANISATEUR"]
[null,2,null,"T",null,null,null,2]
[null,3,null,"T",null,null,null,3,null,null,null,null,null,null,null,null,null,"1- Commencez par renseigner le tableau ci-dessus \"identité du tournoi\""]
[null,4,null,"T",null,null,null,4,null,null,null,null,null,null,null,null,null,"2- Copiez-collez la liste des équipes engagés dans les champs ci-contre en respectant : "]
[null,5,null,"T",null,null,null,5,null,null,null,null,null,null,null,null,null,"- nom et premon séparés pour chaque joueur ( à défaut, ne mentionez que le nom)"]
[null,6,null,"T",null,null,null,6,null,null,null,null,null,null,null,null,null,"- l'ordre décroissant des têtes de séries"]
[null,7,null,"T",null,null,null,7,null,null,null,null,null,null,null,null,null,"3- Renseignez les résultats des sets dans les cellules bleu-ciel de l'onglet \"TAB…\", les classements s'actualisent automatiquement"]
[null,8,null,"T",null,null,null,8]
[null,9,null,"T",null,null,null,9]
[null,10,null,"T",null,null,null,10]
[]
[]
[]
[]
[]
[]
[null,null,null,"Copier/coller selon LISTE ENGAGES en fonction des équipes confirmées"]
[null,null,null,"ATTENTION : Respecter l'ordre des têtes de séries."]
[null,null,null,"Ex: Si Sur LISTE ENGAGES, l'équipe 6 absente, la numéro 7 devient la numéro 6 dans EMARG"]

{"sheet":"LISTE","index":1,"n_rows":15,"n_cols":9,"rows_kept":15,"cut":false,"hidden":true,"merged":[]}
[]
[]
[]
[]
[null,null,null,"MASCULIN","FEMININ","MIXTE"]
[null,null,null,"SERIE 1 -2500","SERIE 1 -2500","SERIE 3 - 150",2020,null,1]
[null,null,null,"SERIE 1 -2000","SERIE 1 -2000","SERIE 3 ",2021,null,2]
[null,null,null,"SERIE 1 - 1500","SERIE 1 - 1500","TYPE",2022,null,3]
[null,null,null,"SERIE 2 - 1000","SERIE 2 - 1000",null,2023,null,4]
[null,null,null,"SERIE 2 - 750","SERIE 2 - 750",null,2024,null,5]
[null,null,null,"SERIE 2 - 500","SERIE 2 - 500",null,null,null,6]
[null,null,null,"SERIE 2 - 250","SERIE 2 - 250",null,null,null,7]
[null,null,null,"SERIE 3 - 150","SERIE 3 - 150",null,null,null,8]
[null,null,null,"SERIE 3 ","SERIE 3 ",null,null,null,9]
[null,null,null,"TYPE","TYPE",null,null,null,10]

{"sheet":"TAB 10 POULE","index":2,"n_rows":69,"n_cols":30,"rows_kept":69,"cut":false,"hidden":false,"merged":[[51,12,51,14],[58,12,58,14],[11,17,11,18],[37,3,37,7],[37,12,37,18],[39,12,39,14],[46,12,46,14],[37,21,37,24],[60,21,60,24],[1,3,4,5],[1,6,3,20],[4,6,4,14],[4,15,4,19],[1,21,4,22],[5,3,5,22],[1,23,5,28],[24,13,24,14],[24,15,24,16],[24,17,24,18],[8,3,8,10],[8,12,8,18],[11,13,11,14],[11,15,11,16],[64,5,64,8],[65,5,65,8],[66,5,66,8],[67,5,67,8],[64,10,64,12],[65,10,65,12]]}
[]
[null,null,null,null,null,null,{"$f":"EMARGEMENT!E2","v":"APPELATION DU TOURNOI"},null,null,null,null,null,null,null,null,null,null,null,null,null,null,{"$f":"EMARGEMENT!O2","v":"ORGANISATEUR"}]
[]
[]
[null,null,null,null,null,null,{"$f":"EMARGEMENT!E4","v":"LIEU"},null,null,null,null,null,null,null,null,{"$f":"EMARGEMENT!I4","v":"DATE"},null,null,null,null,"GENRE"]
[null,null,null,{"$f":"EMARGEMENT!E5","v":"TYPE"}]
[]
[]
[null,null,null,"POULES",null,null,null,null,null,null,null,null,"RESULTATS",null,null,null,null,null,null,null,null,"CLASSEMENT POULE"]
["HEURE DEBUT","09:00:00"]
["DUREE MATCH","00:50:00",null,null,null,null,null,null,null,null,null,null,"SAISIR LES RESULTATS DES SETS DANS LES CASES"]
[null,null,null,null,null,null,"ORDE","N°","HEURE","TERR","ARB",null,"SCORE","SET 1",null,"SET 2",null,"SET 3"]
[null,null,"1",{"$f":"CONCATENATE(EMARGEMENT!D10,\" / \",EMARGEMENT!H10)","v":"T / 1"},null,null,"1/5","(1)",{"$f":"B10","v":"09:00:00"},null,null,null,{"$f":"IF(N13=\"\",\"\",CONCATENATE(,\"( \",'SCORE 10'!J8,\" / \",'SCORE 10'!K8,\" )\"))","v":""}]
[null,null,null,null,null,null,"2/4","(2)",{"$f":"I13+$B$11","v":"09:50:00"},null,null,null,{"$f":"IF(N14=\"\",\"\",CONCATENATE(,\"( \",'SCORE 10'!J10,\" / \",'SCORE 10'!K10,\" )\"))","v":""},null,null,null,null,null,null,null,1,{"$f":"'SCORE 10'!AH8","v":""}]
[null,null,"2",{"$f":"CONCATENATE(EMARGEMENT!D13,\" / \",EMARGEMENT!H13)","v":"T / 4"},null,null,"3/5","(3)","10:40:00",null,null,null,{"$f":"IF(N15=\"\",\"\",CONCATENATE(,\"( \",'SCORE 10'!J12,\" / \",'SCORE 10'!K12,\" )\"))","v":""},null,null,null,null,null,null,null,2,{"$f":"'SCORE 10'!AH9","v":""}]
[null,null,null,null,null,null,"1/4","(4)","11:30:00",null,null,null,{"$f":"IF(N16=\"\",\"\",CONCATENATE(,\"( \",'SCORE 10'!J14,\" / \",'SCORE 10'!K14,\" )\"))","v":""},null,null,null,null,null,null,null,3,{"$f":"'SCORE 10'!AH10","v":""}]
[null,null,"3",{"$f":"CONCATENATE(EMARGEMENT!D14,\" / \",EMARGEMENT!H14)","v":"T / 5"},null,null,"2/3","(5)","12:20:00",null,null,null,{"$f":"IF(N17=\"\",\"\",CONCATENATE(,\"( \",'SCORE 10'!J16,\" / \",'SCORE 10'!K16,\" )\"))","v":""},null,null,null,null,null,null,null,4,{"$f":"'SCORE 10'!AH11","v":""}]
[null,null,null,null,null,null,"4/5","(6)","13:10:00",null,null,null,{"$f":"IF(N18=\"\",\"\",CONCATENATE(,\"( \",'SCORE 10'!J18,\" / \",'SCORE 10'!K18,\" )\"))","v":""},null,null,null,null,null,null,null,5,{"$f":"'SCORE 10'!AH12","v":""}]
[null,null,"4",{"$f":"CONCATENATE(EMARGEMENT!D17,\" / \",EMARGEMENT!H17)","v":"T / 8"},null,null,"1/3","(7)","14:00:00",null,null,null,{"$f":"IF(N19=\"\",\"\",CONCATENATE(,\"( \",'SCORE 10'!J20,\" / \",'SCORE 10'!K20,\" )\"))","v":""}]
[null,null,null,null,null,null,"2/5","(8)","14:50:00",null,null,null,{"$f":"IF(N20=\"\",\"\",CONCATENATE(,\"( \",'SCORE 10'!J22,\" / \",'SCORE 10'!K22,\" )\"))","v":""}]
[null,null,"5",{"$f":"CONCATENATE(EMARGEMENT!D18,\" / \",EMARGEMENT!H18)","v":"T / 9"},null,null,"3/4","(9)","15:40:00",null,null,null,{"$f":"IF(N21=\"\",\"\",CONCATENATE(,\"( \",'SCORE 10'!J24,\" / \",'SCORE 10'!K24,\" )\"))","v":""}]
[null,null,null,null,null,null,"1/2","(10)","16:30:00",null,null,null,{"$f":"IF(N22=\"\",\"\",CONCATENATE(,\"( \",'SCORE 10'!J26,\" / \",'SCORE 10'!K26,\" )\"))","v":""}]
[]
[]
[null,null,null,null,null,null,null,null,null,null,null,null,"SCORE","SET 1",null,"SET 2",null,"SET 3"]
[null,null,"1",{"$f":"CONCATENATE(EMARGEMENT!D11,\" / \",EMARGEMENT!H11)","v":"T / 2"},null,null,"1/5","(11)",{"$f":"B10","v":"09:00:00"},null,null,null,{"$f":"IF(N26=\"\",\"\",CONCATENATE(\"( \",'SCORE 10'!J9,\" / \",'SCORE 10'!K9,\" )\"))","v":""}]
[null,null,null,null,null,null,"2/4","(12)",{"$f":"I26+$B$11","v":"09:50:00"},null,null,null,{"$f":"IF(N27=\"\",\"\",CONCATENATE(\"( \",'SCORE 10'!J11,\" / \",'SCORE 10'!K11,\" )\"))","v":""},null,null,null,null,null,null,null,1,{"$f":"'SCORE 10'!AH14","v":""}]
[null,null,"2",{"$f":"CONCATENATE(EMARGEMENT!D12,\" / \",EMARGEMENT!H12)","v":"T / 3"},null,null,"3/5","(13)","10:40:00",null,null,null,{"$f":"IF(N28=\"\",\"\",CONCATENATE(\"( \",'SCORE 10'!J13,\" / \",'SCORE 10'!K13,\" )\"))","v":""},null,null,null,null,null,null,null,2,{"$f":"'SCORE 10'!AH15","v":""}]
[null,null,null,null,null,null,"1/4","(14)","11:30:00",null,null,null,{"$f":"IF(N29=\"\",\"\",CONCATENATE(\"( \",'SCORE 10'!J15,\" / \",'SCORE 10'!K15,\" )\"))","v":""},null,null,null,null,null,null,null,3,{"$f":"'SCORE 10'!AH16","v":""}]
[null,null,"3",{"$f":"CONCATENATE(EMARGEMENT!D15,\" / \",EMARGEMENT!H15)","v":"T / 6"},null,null,"2/3","(15)","12:20:00",null,null,null,{"$f":"IF(N30=\"\",\"\",CONCATENATE(\"( \",'SCORE 10'!J17,\" / \",'SCORE 10'!K17,\" )\"))","v":""},null,null,null,null,null,null,null,4,{"$f":"'SCORE 10'!AH17","v":""}]
[null,null,null,null,null,null,"4/5","(16)","13:10:00",null,null,null,{"$f":"IF(N31=\"\",\"\",CONCATENATE(\"( \",'SCORE 10'!J19,\" / \",'SCORE 10'!K19,\" )\"))","v":""},null,null,null,null,null,null,null,5,{"$f":"'SCORE 10'!AH18","v":""}]
[null,null,"4",{"$f":"CONCATENATE(EMARGEMENT!D16,\" / \",EMARGEMENT!H16)","v":"T / 7"},null,null,"1/3","(17)","14:00:00",null,null,null,{"$f":"IF(N32=\"\",\"\",CONCATENATE(\"( \",'SCORE 10'!J21,\" / \",'SCORE 10'!K21,\" )\"))","v":""}]
[null,null,null,null,null,null,"2/5","(18)","14:50:00",null,null,null,{"$f":"IF(N33=\"\",\"\",CONCATENATE(\"( \",'SCORE 10'!J23,\" / \",'SCORE 10'!K23,\" )\"))","v":""}]
[null,null,"5",{"$f":"CONCATENATE(EMARGEMENT!D19,\" / \",EMARGEMENT!H19)","v":"T / 10"},null,null,"3/4","(19)","15:40:00",null,null,null,{"$f":"IF(N34=\"\",\"\",CONCATENATE(\"( \",'SCORE 10'!J25,\" / \",'SCORE 10'!K25,\" )\"))","v":""}]
[null,null,null,null,null,null,"1/2","(20)","16:30:00",null,null,null,{"$f":"IF(N35=\"\",\"\",CONCATENATE(\"( \",'SCORE 10'!J27,\" / \",'SCORE 10'!K27,\" )\"))","v":""}]
[]
[]
[null,null,null," 1/4 FINALES",null,null,null,null,null,null,null,null," 1/2 FINALES",null,null,null,null,null,null,null,null,"FINALE"]
[]
[null,null,"1a",{"$f":"V14","v":""},"Score","S1","S2","S3","Heure","Terrain","Arbitre",null,{"$f":"'SCORE 10'!R28","v":""}]
[null,null,null,null,{"$f":"IF('SCORE 10'!L28=\"\",\"\",'SCORE 10'!J28)","v":""}]
[null,null,null,null,{"$f":"IF('SCORE 10'!M28=\"\",\"\",'SCORE 10'!K28)","v":""},null,null,null,null,null,null,null,null,null,null,"Score","S1","S2","S3"]
[null,null,"4b",{"$f":"V30","v":""},null,null,null,null,null,null,null,null,null,null,null,{"$f":"IF('SCORE 10'!L32=\"\",\"\",'SCORE 10'!J32)","v":""},null,null,null,null,null,{"$f":"'SCORE 10'!R32","v":""}]
[null,null,null,null,null,null,null,null,null,null,null,null,null,null,null,{"$f":"IF('SCORE 10'!M32=\"\",\"\",'SCORE 10'!K32)","v":""}]
[null,null,null,null,null,null,null,null,null,null,null,null,null,null,null,null,"H","T","A"]
[null,null,"2b",{"$f":"V28","v":""},"Score","S1","S2","S3","Heure","Terrain","Arbitre"]
[null,null,null,null,{"$f":"IF('SCORE 10'!L29=\"\",\"\",'SCORE 10'!J29)","v":""},null,null,null,null,null,null,null,{"$f":"'SCORE 10'!R29","v":""}]
[null,null,null,null,{"$f":"IF('SCORE 10'!M29=\"\",\"\",'SCORE 10'!K29)","v":""},null,null,null,null,null,null,null,null,null,null,null,null,null,null,null,null,null,"Score","S1","S2","S3","Heure","Terr","Arbitre"]
[null,null,"3a",{"$f":"V16","v":""},null,null,null,null,null,null,null,null,null,null,null,null,null,null,null,null,null,null,{"$f":"IF('SCORE 10'!L35=\"\",\"\",'SCORE 10'!J35)","v":""},null,null,null,null,null,null,{"$f":"'SCORE 10'!R35","v":""}]
[null,null,null,null,null,null,null,null,null,null,null,null,null,null,null,null,null,null,null,null,null,null,{"$f":"IF('SCORE 10'!M35=\"\",\"\",'SCORE 10'!K35)","v":""}]
[]
[null,null,"2a",{"$f":"V15","v":""},"Score","S1","S2","S3","Heure","Terrain","Arbitre",null,{"$f":"'SCORE 10'!R30","v":""}]
[null,null,null,null,{"$f":"IF('SCORE 10'!L30=\"\",\"\",'SCORE 10'!J30)","v":""}]
[null,null,null,null,{"$f":"IF('SCORE 10'!M30=\"\",\"\",'SCORE 10'!K30)","v":""}]
[null,null,"3b",{"$f":"V29","v":""},null,null,null,null,null,null,null,null,null,null,null,"Score","S1","S2","S3"]
[null,null,null,null,null,null,null,null,null,null,null,null,null,null,null,{"$f":"IF('SCORE 10'!L33=\"\",\"\",'SCORE 10'!J33)","v":""}]
[null,null,null,null,null,null,null,null,null,null,null,null,null,null,null,{"$f":"IF('SCORE 10'!M33=\"\",\"\",'SCORE 10'!K33)","v":""},null,null,null,null,null,{"$f":"'SCORE 10'!R33","v":""}]
[null,null,"1b",{"$f":"V27","v":""},"Score","S1","S2","S3","Heure","Terrain","Arbitre",null,null,null,null,null,"H","T","A"]
[null,null,null,null,{"$f":"IF('SCORE 10'!L31=\"\",\"\",'SCORE 10'!J31)","v":""},null,null,null,null,null,null,null,{"$f":"'SCORE 10'!R31","v":""}]
[null,null,null,null,{"$f":"IF('SCORE 10'!M31=\"\",\"\",'SCORE 10'!K31)","v":""}]
[null,null,"4a",{"$f":"V17","v":""},null,null,null,null,null,null,null,null,null,null,null,null,null,null,null,null,null,"PLACE 3/4"]
[]
[null,null,null,null,null,null,null,null,null,null,null,null,null,null,null,null,null,null,null,null,null,{"$f":"'SCORE 10'!S32","v":""}]
[null,null,null,"CLASSEMENT FINAL"]
[null,null,"1 -",{"$f":"'SCORE 10'!R35","v":""},"5 -",{"$f":"'SCORE 10'!S28","v":""},null,null,null,"9 -",{"$f":"V18","v":""},null,null,null,null,null,null,null,null,null,null,null,"Score","S1","S2","S3","Heure","Terrain","Arbitre"]
[null,null,"2 -",{"$f":"'SCORE 10'!S35","v":""},"5 -",{"$f":"'SCORE 10'!S29","v":""},null,null,null,"9 -",{"$f":"V31","v":""},null,null,null,null,null,null,null,null,null,null,null,{"$f":"IF('SCORE 10'!L34=\"\",\"\",'SCORE 10'!J34)","v":""},null,null,null,null,null,null,{"$f":"'SCORE 10'!R34","v":""}]
[null,null," 3 -",{"$f":"'SCORE 10'!R34","v":""},"5 -",{"$f":"'SCORE 10'!S30","v":""},null,null,null,null,null,null,null,null,null,null,null,null,null,null,null,null,{"$f":"IF('SCORE 10'!M34=\"\",\"\",'SCORE 10'!K34)","v":""}]
[null,null,"4 -",{"$f":"'SCORE 10'!S34","v":""},"5 -",{"$f":"'SCORE 10'!S31","v":""}]
[null,null,null,null,null,null,null,null,null,null,null,null,null,null,null,null,null,null,null,null,null,{"$f":"'SCORE 10'!S33","v":""}]

{"sheet":"RELEVE","index":3,"n_rows":87,"n_cols":14,"rows_kept":87,"cut":false,"hidden":false,"merged":[[9,8,9,9],[2,2,2,3],[2,4,2,10],[3,2,3,3],[3,4,3,5],[4,2,4,3],[4,4,4,5],[5,2,5,3],[5,4,5,5],[6,2,6,3],[6,4,6,5],[8,8,8,9],[86,2,92,10],[14,4,14,6],[15,2,15,3],[15,4,15,6],[16,2,16,3],[16,4,16,6],[17,2,17,3],[17,4,17,6],[18,2,18,3],[18,4,18,6],[19,2,19,3],[19,4,19,6],[77,2,83,10]]}
[null,null,"RELEVE DES RESULTATS ET SANCTIONS - TOURNOI DE BEACH VOLLEY"]
[]
[null,null,"APPELATION DU TOURNOI",null,{"$f":"EMARGEMENT!U3","v":0}]
[null,null,"TYPE",null,{"$f":"EMARGEMENT!U5","v":0}]
[null,null,"GENRE",null,{"$f":"EMARGEMENT!U9","v":0}]
[null,null,"DATE",null,{"$f":"EMARGEMENT!I4","v":"DATE"}]
[null,null,"ORGANISATEUR",null,{"$f":"EMARGEMENT!U10","v":0}]
[]
[null,null,"NOMBRE EQUIPE TABLEAU :",null,null,"PRINCIPAL",null,null,"QUALIFICATION"]
[null,null,"NOMBRE EQUIPE PRESENTES PAR TABLEAU",null,null,"PRINCIPAL",null,null,"QUALIFICATION"]
[]
[]
[null,null,"COMPOSITION DE LA COMMISSION DE DIRECTION"]
[]
[null,null,"DELEGUE INSTANCE FEDERAL"]
[null,null,"SUPERVISEUR"]
[null,null,"JUGE ARBITRE"]
[null,null,"ORGANISATEUR"]
[null,null,"REPRESENTANT JOUEURS"]
[null,null,"RAPPORTEUR*"]
[]
[]
[]
[]
[]
[null,null,"EQUIPES ABSENTES"]
[null,null,"NOM","PRENOM","LIC J1","club J1","NOM2","PRENOM3","LIC J2","club J2"]
[]
[]
[]
[]
[]
[]
[null,null,"RECLAMATIONS"]
[null,null,"NOM","PRENOM","LIC J1","club J1","NOM2","PRENOM3","LIC J2","club J2","RANG","NIVEAU","MOTIF ","AVIS COMMISSION"]
[null,1]
[null,2]
[null,3]
[null,4]
[null,5]
[null,6]
[]
[null,null,"EQUIPES/JOUEURS SANCTIONNES"]
[null,null,"NOM","PRENOM","LIC J1","club J1","NOM2","PRENOM3","LIC J2","club J2","RANG","SANCTION","MOTIF ","AVIS COMMISSION"]
[null,1]
[null,2]
[null,3]
[null,4]
[null,5]
[null,6]
[]
[null,null,"CLASSEMENT FINAL"]
[null,null,"NOM","PRENOM","LIC J1","club J1","NOM2","PRENOM3","LIC J2","club J2","RANG"]
[null,null,{"$f":"EMARGEMENT!D10","v":"T"},{"$f":"EMARGEMENT!E10","v":0},{"$f":"EMARGEMENT!F10","v":0},{"$f":"EMARGEMENT!G10","v":0},{"$f":"EMARGEMENT!H10","v":1},{"$f":"EMARGEMENT!I10","v":0},{"$f":"EMARGEMENT!J10","v":0},{"$f":"EMARGEMENT!K10","v":0}]
[null,null,{"$f":"EMARGEMENT!D11","v":"T"},{"$f":"EMARGEMENT!E11","v":0},{"$f":"EMARGEMENT!F11","v":0},{"$f":"EMARGEMENT!G11","v":0},{"$f":"EMARGEMENT!H11","v":2},{"$f":"EMARGEMENT!I11","v":0},{"$f":"EMARGEMENT!J11","v":0},{"$f":"EMARGEMENT!K11","v":0}]
[null,null,{"$f":"EMARGEMENT!D12","v":"T"},{"$f":"EMARGEMENT!E12","v":0},{"$f":"EMARGEMENT!F12","v":0},{"$f":"EMARGEMENT!G12","v":0},{"$f":"EMARGEMENT!H12","v":3},{"$f":"EMARGEMENT!I12","v":0},{"$f":"EMARGEMENT!J12","v":0},{"$f":"EMARGEMENT!K12","v":0}]
[null,null,{"$f":"EMARGEMENT!D13","v":"T"},{"$f":"EMARGEMENT!E13","v":0},{"$f":"EMARGEMENT!F13","v":0},{"$f":"EMARGEMENT!G13","v":0},{"$f":"EMARGEMENT!H13","v":4},{"$f":"EMARGEMENT!I13","v":0},{"$f":"EMARGEMENT!J13","v":0},{"$f":"EMARGEMENT!K13","v":0}]
[null,null,{"$f":"EMARGEMENT!D14","v":"T"},{"$f":"EMARGEMENT!E14","v":0},{"$f":"EMARGEMENT!F14","v":0},{"$f":"EMARGEMENT!G14","v":0},{"$f":"EMARGEMENT!H14","v":5},{"$f":"EMARGEMENT!I14","v":0},{"$f":"EMARGEMENT!J14","v":0},{"$f":"EMARGEMENT!K14","v":0}]
[null,null,{"$f":"EMARGEMENT!D15","v":"T"},{"$f":"EMARGEMENT!E15","v":0},{"$f":"EMARGEMENT!F15","v":0},{"$f":"EMARGEMENT!G15","v":0},{"$f":"EMARGEMENT!H15","v":6},{"$f":"EMARGEMENT!I15","v":0},{"$f":"EMARGEMENT!J15","v":0},{"$f":"EMARGEMENT!K15","v":0}]
[null,null,{"$f":"EMARGEMENT!D16","v":"T"},{"$f":"EMARGEMENT!E16","v":0},{"$f":"EMARGEMENT!F16","v":0},{"$f":"EMARGEMENT!G16","v":0},{"$f":"EMARGEMENT!H16","v":7},{"$f":"EMARGEMENT!I16","v":0},{"$f":"EMARGEMENT!J16","v":0},{"$f":"EMARGEMENT!K16","v":0}]
[null,null,{"$f":"EMARGEMENT!D17","v":"T"},{"$f":"EMARGEMENT!E17","v":0},{"$f":"EMARGEMENT!F17","v":0},{"$f":"EMARGEMENT!G17","v":0},{"$f":"EMARGEMENT!H17","v":8},{"$f":"EMARGEMENT!I17","v":0},{"$f":"EMARGEMENT!J17","v":0},{"$f":"EMARGEMENT!K17","v":0}]
[null,null,{"$f":"EMARGEMENT!D18","v":"T"},{"$f":"EMARGEMENT!E18","v":0},{"$f":"EMARGEMENT!F18","v":0},{"$f":"EMARGEMENT!G18","v":0},{"$f":"EMARGEMENT!H18","v":9},{"$f":"EMARGEMENT!I18","v":0},{"$f":"EMARGEMENT!J18","v":0},{"$f":"EMARGEMENT!K18","v":0}]
[null,null,{"$f":"EMARGEMENT!D19","v":"T"},{"$f":"EMARGEMENT!E19","v":0},{"$f":"EMARGEMENT!F19","v":0},{"$f":"EMARGEMENT!G19","v":0},{"$f":"EMARGEMENT!H19","v":10},{"$f":"EMARGEMENT!I19","v":0},{"$f":"EMARGEMENT!J19","v":0},{"$f":"EMARGEMENT!K19","v":0}]
[null,null,{"$f":"EMARGEMENT!D20","v":0},{"$f":"EMARGEMENT!E20","v":0},{"$f":"EMARGEMENT!F20","v":0},{"$f":"EMARGEMENT!G20","v":0},{"$f":"EMARGEMENT!H20","v":0},{"$f":"EMARGEMENT!I20","v":0},{"$f":"EMARGEMENT!J20","v":0},{"$f":"EMARGEMENT!K20","v":0}]
[null,null,{"$f":"EMARGEMENT!D21","v":0},{"$f":"EMARGEMENT!E21","v":0},{"$f":"EMARGEMENT!F21","v":0},{"$f":"EMARGEMENT!G21","v":0},{"$f":"EMARGEMENT!H21","v":0},{"$f":"EMARGEMENT!I21","v":0},{"$f":"EMARGEMENT!J21","v":0},{"$f":"EMARGEMENT!K21","v":0}]
[null,null,{"$f":"EMARGEMENT!D22","v":0},{"$f":"EMARGEMENT!E22","v":0},{"$f":"EMARGEMENT!F22","v":0},{"$f":"EMARGEMENT!G22","v":0},{"$f":"EMARGEMENT!H22","v":0},{"$f":"EMARGEMENT!I22","v":0},{"$f":"EMARGEMENT!J22","v":0},{"$f":"EMARGEMENT!K22","v":0}]
[null,null,{"$f":"EMARGEMENT!D23","v":0},{"$f":"EMARGEMENT!E23","v":0},{"$f":"EMARGEMENT!F23","v":0},{"$f":"EMARGEMENT!G23","v":0},{"$f":"EMARGEMENT!H23","v":0},{"$f":"EMARGEMENT!I23","v":0},{"$f":"EMARGEMENT!J23","v":0},{"$f":"EMARGEMENT!K23","v":0}]
[null,null,{"$f":"EMARGEMENT!D24","v":0},{"$f":"EMARGEMENT!E24","v":0},{"$f":"EMARGEMENT!F24","v":0},{"$f":"EMARGEMENT!G24","v":0},{"$f":"EMARGEMENT!H24","v":0},{"$f":"EMARGEMENT!I24","v":0},{"$f":"EMARGEMENT!J24","v":0},{"$f":"EMARGEMENT!K24","v":0}]
[null,null,{"$f":"EMARGEMENT!D25","v":0},{"$f":"EMARGEMENT!E25","v":0},{"$f":"EMARGEMENT!F25","v":0},{"$f":"EMARGEMENT!G25","v":0},{"$f":"EMARGEMENT!H25","v":0},{"$f":"EMARGEMENT!I25","v":0},{"$f":"EMARGEMENT!J25","v":0},{"$f":"EMARGEMENT!K25","v":0}]
[]
[]
[]
[]
[]
[]
[]
[]
[null,null,"REMARQUES :"]
[]
[]
[]
[]
[]
[]
[]
[]
[null,null,"SIGNATURES :"]

{"sheet":"SCORE 10","index":4,"n_rows":35,"n_cols":34,"rows_kept":35,"cut":false,"hidden":true,"merged":[]}
[]
[]
["DEBUT J1","09:00:00"]
["TEMPS","00:50:00"]
["DEBUT J2","00:00:00"]
[]
[null,null,"PHASE","JOUR","N° MATCH","HEURE","TER","EQ1","EQ2","SCORE EQ1","SCORE EQ2","SET 1 EQ1","SET 1 EQ2","SET 2 EQ1","SET 2 EQ2","SET 3 EQ1","SET 3 EQ2","POS 1","POS 2",null,null,null,null,"PTS","S+","S-","P+","P-","CS","CP","CLA","RG",null,"CLA P"]
[null,null,"A",1,1,{"$f":"B3","v":"09:00:00"},1,{"$f":"'TAB 10 POULE'!D13","v":"T / 1"},{"$f":"'TAB 10 POULE'!D17","v":"T / 5"},{"$f":"SUM(IF(L8>M8,1,0),IF(N8>O8,1,0),IF(P8>Q8,1,0))","v":0},{"$f":"SUM(IF(M8>L8,1,0),IF(O8>N8,1,0),IF(Q8>P8,1,0))","v":0},{"$f":"'TAB 10 POULE'!N13","v":0},{"$f":"'TAB 10 POULE'!O13","v":0},{"$f":"'TAB 10 POULE'!P13","v":0},{"$f":"'TAB 10 POULE'!Q13","v":0},{"$f":"'TAB 10 POULE'!R13","v":0},{"$f":"'TAB 10 POULE'!S13","v":0},{"$f":"IF(J8=K8,\"\",IF(J8>K8,H8,I8))","v":""},{"$f":"IF(J8=K8,\"\",IF(J8<K8,H8,I8))","v":""},null,null,null,{"$f":"'TAB 10 POULE'!D13","v":"T / 1"},{"$f":"COUNTIF(PLACE1,W8)*2+COUNTIF('SCORE 10'!PLACE2,W8)","v":0},{"$f":"SUMIF(LISTEE1,W8,(SCEQ1))+SUMIF(LISTEE2,W8,(SCEQ2))","v":0},{"$f":"SUMIF(LISTEE1,W8,(SCEQ2))+SUMIF(LISTEE2,W8,(SCEQ1))","v":0},{"$f":"(SUMPRODUCT((LISTEE1=W8)*((S1EQ1)+(S2EQ1)+(S3EQ1))))+(SUMPRODUCT((LISTEE2=W8)*((S1EQ2)+(S2EQ2)+(S3EQ3))))","v":0},{"$f":"(SUMPRODUCT((LISTEE2=W8)*((S1EQ1)+(S2EQ1)+(S3EQ1))))+(SUMPRODUCT((LISTEE1=W8)*((S1EQ2)+(S2EQ2)+(S3EQ3))))","v":0},{"$f":"IFERROR(Y8/Z8,0)","v":0},{"$f":"IFERROR(AA8/AB8,0)","v":0},{"$f":"X8+AC8/100+AD8/100","v":0},{"$f":"IF(X8=0,\"\",RANK(AE8,$AE$8:$AE$12))","v":""},1,{"$f":"IF(X8=0,\"\",IF($AF$8=AG8,$W$8,IF($AF$9=AG8,$W$9,IF($AF$10=AG8,$W$10,IF($AF$11=AG8,$W$11,IF(AF12=AG12,W12))))))","v":""}]
[null,null,"B",1,2,{"$f":"B3","v":"09:00:00"},2,{"$f":"'TAB 10 POULE'!D26","v":"T / 2"},{"$f":"'TAB 10 POULE'!D34","v":"T / 10"},{"$f":"SUM(IF(L9>M9,1,0),IF(N9>O9,1,0),IF(P9>Q9,1,0))","v":0},{"$f":"SUM(IF(M9>L9,1,0),IF(O9>N9,1,0),IF(Q9>P9,1,0))","v":0},{"$f":"'TAB 10 POULE'!N26","v":0},{"$f":"'TAB 10 POULE'!O26","v":0},{"$f":"'TAB 10 POULE'!P26","v":0},{"$f":"'TAB 10 POULE'!Q26","v":0},{"$f":"'TAB 10 POULE'!R26","v":0},{"$f":"'TAB 10 POULE'!S26","v":0},{"$f":"IF(J9=K9,\"\",IF(J9>K9,H9,I9))","v":""},{"$f":"IF(J9=K9,\"\",IF(J9<K9,H9,I9))","v":""},null,null,null,{"$f":"'TAB 10 POULE'!D15","v":"T / 4"},{"$f":"COUNTIF(PLACE1,W9)*2+COUNTIF('SCORE 10'!PLACE2,W9)","v":0},{"$f":"SUMIF(LISTEE1,W9,(SCEQ1))+SUMIF(LISTEE2,W9,(SCEQ2))","v":0},{"$f":"SUMIF(LISTEE1,W9,(SCEQ2))+SUMIF(LISTEE2,W9,(SCEQ1))","v":0},{"$f":"(SUMPRODUCT((LISTEE1=W9)*((S1EQ1)+(S2EQ1)+(S3EQ1))))+(SUMPRODUCT((LISTEE2=W9)*((S1EQ2)+(S2EQ2)+(S3EQ3))))","v":0},0,{"$f":"IFERROR(Y9/Z9,0)","v":0},{"$f":"IFERROR(AA9/AB9,0)","v":0},{"$f":"X9+AC9/100+AD9/100","v":0},{"$f":"IF(X9=0,\"\",RANK(AE9,$AE$8:$AE$12))","v":""},2,{"$f":"IF(X9=0,\"\",IF($AF$8=AG9,$W$8,IF($AF$9=AG9,$W$9,IF($AF$10=AG9,$W$10,IF($AF$11=AG9,$W$11,IF($AF$12=AG12,$W$12))))))","v":""}]
[null,null,"A",1,3,{"$f":"F8+$B$4","v":"09:50:00"},1,{"$f":"'TAB 10 POULE'!D15","v":"T / 4"},{"$f":"'TAB 10 POULE'!D19","v":"T / 8"},0,0,{"$f":"'TAB 10 POULE'!N14","v":0},{"$f":"'TAB 10 POULE'!O14","v":0},{"$f":"'TAB 10 POULE'!P14","v":0},{"$f":"'TAB 10 POULE'!Q14","v":0},{"$f":"'TAB 10 POULE'!R14","v":0},{"$f":"'TAB 10 POULE'!S14","v":0},"","",null,null,null,{"$f":"'TAB 10 POULE'!D17","v":"T / 5"},{"$f":"COUNTIF(PLACE1,W10)*2+COUNTIF('SCORE 10'!PLACE2,W10)","v":0},0,{"$f":"SUMIF(LISTEE1,W10,SCEQ2)+SUMIF(LISTEE2,W10,SCEQ1)","v":0},0,0,0,0,0,{"$f":"IF(X10=0,\"\",RANK(AE10,$AE$8:$AE$12))","v":""},3,{"$f":"IF(X10=0,\"\",IF($AF$8=AG10,$W$8,IF($AF$9=AG10,$W$9,IF($AF$10=AG10,$W$10,IF($AF$11=AG10,$W$11,IF(AF12=AG10,W12))))))","v":""}]
[null,null,"B",1,4,"09:50:00",2,{"$f":"'TAB 10 POULE'!D28","v":"T / 3"},{"$f":"'TAB 10 POULE'!D32","v":"T / 7"},0,0,{"$f":"'TAB 10 POULE'!N27","v":0},{"$f":"'TAB 10 POULE'!O27","v":0},{"$f":"'TAB 10 POULE'!P27","v":0},{"$f":"'TAB 10 POULE'!Q27","v":0},{"$f":"'TAB 10 POULE'!R27","v":0},{"$f":"'TAB 10 POULE'!S27","v":0},"","",null,null,null,{"$f":"'TAB 10 POULE'!D19","v":"T / 8"},{"$f":"COUNTIF(PLACE1,W11)*2+COUNTIF('SCORE 10'!PLACE2,W11)","v":0},0,0,0,0,0,0,0,"",4,{"$f":"IF(X11=0,\"\",IF($AF$8=AG11,$W$8,IF($AF$9=AG11,$W$9,IF($AF$10=AG11,$W$10,IF($AF$11=AG11,$W$11,IF($AF$12=AG11,$W$12))))))","v":""}]
[null,null,"A",1,5,"10:40:00",1,{"$f":"'TAB 10 POULE'!D17","v":"T / 5"},{"$f":"'TAB 10 POULE'!D21","v":"T / 9"},0,0,{"$f":"'TAB 10 POULE'!N15","v":0},{"$f":"'TAB 10 POULE'!O15","v":0},{"$f":"'TAB 10 POULE'!P15","v":0},{"$f":"'TAB 10 POULE'!Q15","v":0},{"$f":"'TAB 10 POULE'!R15","v":0},{"$f":"'TAB 10 POULE'!S15","v":0},"","",null,null,null,{"$f":"'TAB 10 POULE'!D21","v":"T / 9"},{"$f":"COUNTIF(PLACE1,W12)*2+COUNTIF('SCORE 10'!PLACE2,W12)","v":0},0,0,0,0,0,0,0,{"$f":"IF(X12=0,\"\",RANK(AE12,$AE$8:$AE$12))","v":""},5,{"$f":"IF(X12=0,\"\",IF($AF$8=AG12,$W$8,IF($AF$9=AG12,$W$9,IF($AF$10=AG12,$W$10,IF($AF$11=AG12,$W$11,IF(AF12=AG12,W12))))))","v":""}]
[null,null,"B",1,6,"10:40:00",2,{"$f":"'TAB 10 POULE'!D30","v":"T / 6"},{"$f":"'TAB 10 POULE'!D34","v":"T / 10"},0,0,{"$f":"'TAB 10 POULE'!N28","v":0},{"$f":"'TAB 10 POULE'!O28","v":0},{"$f":"'TAB 10 POULE'!P28","v":0},{"$f":"'TAB 10 POULE'!Q28","v":0},{"$f":"'TAB 10 POULE'!R28","v":0},{"$f":"'TAB 10 POULE'!S28","v":0},"",""]
[null,null,"A",1,7,"11:30:00",1,{"$f":"'TAB 10 POULE'!D13","v":"T / 1"},{"$f":"'TAB 10 POULE'!D19","v":"T / 8"},{"$f":"SUM(IF(L14>M14,1,0),IF(N14>O14,1,0),IF(P14>Q14,1,0))","v":0},0,{"$f":"'TAB 10 POULE'!N16","v":0},{"$f":"'TAB 10 POULE'!O16","v":0},{"$f":"'TAB 10 POULE'!P16","v":0},{"$f":"'TAB 10 POULE'!Q16","v":0},{"$f":"'TAB 10 POULE'!R16","v":0},{"$f":"'TAB 10 POULE'!S16","v":0},{"$f":"IF(J14=K14,\"\",IF(J14>K14,H14,I14))","v":""},"",null,null,null,{"$f":"'TAB 10 POULE'!D26","v":"T / 2"},{"$f":"COUNTIF(PLACE1,W14)*2+COUNTIF('SCORE 10'!PLACE2,W14)","v":0},0,0,0,0,0,0,0,{"$f":"IF(X14=0,\"\",RANK(AE14,$AE$14:$AE$18))","v":""},1,{"$f":"IF(X14=0,\"\",IF($AF$14=AG14,$W$14,IF($AF$15=AG14,$W$15,IF($AF$16=AG14,$W$16,IF($AF$17=AG14,$W$17,IF($AF$18=AG14,$W$18))))))","v":""}]
[null,null,"B",1,8,"11:30:00",2,{"$f":"'TAB 10 POULE'!D26","v":"T / 2"},{"$f":"'TAB 10 POULE'!D32","v":"T / 7"},0,0,{"$f":"'TAB 10 POULE'!N29","v":0},{"$f":"'TAB 10 POULE'!O29","v":0},{"$f":"'TAB 10 POULE'!P29","v":0},{"$f":"'TAB 10 POULE'!Q29","v":0},{"$f":"'TAB 10 POULE'!R29","v":0},{"$f":"'TAB 10 POULE'!S29","v":0},"","",null,null,null,{"$f":"'TAB 10 POULE'!D28","v":"T / 3"},{"$f":"COUNTIF(PLACE1,W15)*2+COUNTIF('SCORE 10'!PLACE2,W15)","v":0},0,0,0,0,0,0,0,{"$f":"IF(X15=0,\"\",RANK(AE15,$AE$14:$AE$18))","v":""},2,{"$f":"IF(X15=0,\"\",IF($AF$14=AG15,$W$14,IF($AF$15=AG15,$W$15,IF($AF$16=AG15,$W$16,IF($AF$17=AG15,$W$17,IF($AF$18=AG15,$W$18))))))","v":""}]
[null,null,"A",1,9,"12:20:00",1,{"$f":"'TAB 10 POULE'!D15","v":"T / 4"},{"$f":"'TAB 10 POULE'!D17","v":"T / 5"},0,0,{"$f":"'TAB 10 POULE'!N17","v":0},{"$f":"'TAB 10 POULE'!O17","v":0},{"$f":"'TAB 10 POULE'!P17","v":0},{"$f":"'TAB 10 POULE'!Q17","v":0},{"$f":"'TAB 10 POULE'!R17","v":0},{"$f":"'TAB 10 POULE'!S17","v":0},"","",null,null,null,{"$f":"'TAB 10 POULE'!D30","v":"T / 6"},{"$f":"COUNTIF(PLACE1,W16)*2+COUNTIF('SCORE 10'!PLACE2,W16)","v":0},0,0,0,0,0,0,0,{"$f":"IF(X16=0,\"\",RANK(AE16,$AE$14:$AE$18))","v":""},3,{"$f":"IF(X16=0,\"\",IF($AF$14=AG16,$W$14,IF($AF$15=AG16,$W$15,IF($AF$16=AG16,$W$16,IF($AF$17=AG16,$W$17,IF($AF$18=AG16,$W$18))))))","v":""}]
[null,null,"B",1,10,"12:20:00",2,{"$f":"'TAB 10 POULE'!D28","v":"T / 3"},{"$f":"'TAB 10 POULE'!D30","v":"T / 6"},0,0,{"$f":"'TAB 10 POULE'!N30","v":0},{"$f":"'TAB 10 POULE'!O30","v":0},{"$f":"'TAB 10 POULE'!P30","v":0},{"$f":"'TAB 10 POULE'!Q30","v":0},{"$f":"'TAB 10 POULE'!R30","v":0},{"$f":"'TAB 10 POULE'!S30","v":0},"","",null,null,null,{"$f":"'TAB 10 POULE'!D32","v":"T / 7"},{"$f":"COUNTIF(PLACE1,W17)*2+COUNTIF('SCORE 10'!PLACE2,W17)","v":0},0,0,0,0,0,0,0,"",4,{"$f":"IF(X17=0,\"\",IF($AF$14=AG17,$W$14,IF($AF$15=AG17,$W$15,IF($AF$16=AG17,$W$16,IF($AF$17=AG17,$W$17,IF($AF$18=AG17,$W$18))))))","v":""}]
[null,null,"A",1,11,"13:10:00",1,{"$f":"'TAB 10 POULE'!D19","v":"T / 8"},{"$f":"'TAB 10 POULE'!D21","v":"T / 9"},0,0,{"$f":"'TAB 10 POULE'!N18","v":0},{"$f":"'TAB 10 POULE'!O18","v":0},{"$f":"'TAB 10 POULE'!P18","v":0},{"$f":"'TAB 10 POULE'!Q18","v":0},{"$f":"'TAB 10 POULE'!R18","v":0},{"$f":"'TAB 10 POULE'!S18","v":0},"","",null,null,null,{"$f":"'TAB 10 POULE'!D34","v":"T / 10"},{"$f":"COUNTIF(PLACE1,W18)*2+COUNTIF('SCORE 10'!PLACE2,W18)","v":0},0,0,0,0,0,0,0,"",5,{"$f":"IF(X18=0,\"\",IF($AF$14=AG18,$W$14,IF($AF$15=AG18,$W$15,IF($AF$16=AG18,$W$16,IF($AF$17=AG18,$W$17,IF($AF$18=AG18,$W$18))))))","v":""}]
[null,null,"B",1,12,"13:10:00",2,{"$f":"'TAB 10 POULE'!D32","v":"T / 7"},{"$f":"'TAB 10 POULE'!D34","v":"T / 10"},0,0,{"$f":"'TAB 10 POULE'!N31","v":0},{"$f":"'TAB 10 POULE'!O31","v":0},{"$f":"'TAB 10 POULE'!P31","v":0},{"$f":"'TAB 10 POULE'!Q31","v":0},{"$f":"'TAB 10 POULE'!R31","v":0},{"$f":"'TAB 10 POULE'!S31","v":0},"",""]
[null,null,"A",1,13,"14:00:00",1,{"$f":"'TAB 10 POULE'!D13","v":"T / 1"},{"$f":"'TAB 10 POULE'!D17","v":"T / 5"},0,0,{"$f":"'TAB 10 POULE'!N19","v":0},{"$f":"'TAB 10 POULE'!O19","v":0},{"$f":"'TAB 10 POULE'!P19","v":0},{"$f":"'TAB 10 POULE'!Q19","v":0},{"$f":"'TAB 10 POULE'!R19","v":0},{"$f":"'TAB 10 POULE'!S19","v":0},"",""]
[null,null,"B",1,14,"14:00:00",2,{"$f":"'TAB 10 POULE'!D26","v":"T / 2"},{"$f":"'TAB 10 POULE'!D30","v":"T / 6"},0,0,{"$f":"'TAB 10 POULE'!N32","v":0},{"$f":"'TAB 10 POULE'!O32","v":0},{"$f":"'TAB 10 POULE'!P32","v":0},{"$f":"'TAB 10 POULE'!Q32","v":0},{"$f":"'TAB 10 POULE'!R32","v":0},{"$f":"'TAB 10 POULE'!S32","v":0},"",""]
[null,null,"A",1,15,"14:50:00",1,{"$f":"'TAB 10 POULE'!D15","v":"T / 4"},{"$f":"'TAB 10 POULE'!D21","v":"T / 9"},0,0,{"$f":"'TAB 10 POULE'!N20","v":0},{"$f":"'TAB 10 POULE'!O20","v":0},{"$f":"'TAB 10 POULE'!P20","v":0},{"$f":"'TAB 10 POULE'!Q20","v":0},{"$f":"'TAB 10 POULE'!R20","v":0},{"$f":"'TAB 10 POULE'!S20","v":0},"",""]
[null,null,"B",1,16,"14:50:00",2,{"$f":"'TAB 10 POULE'!D28","v":"T / 3"},{"$f":"'TAB 10 POULE'!D34","v":"T / 10"},0,0,{"$f":"'TAB 10 POULE'!N33","v":0},{"$f":"'TAB 10 POULE'!O33","v":0},{"$f":"'TAB 10 POULE'!P33","v":0},{"$f":"'TAB 10 POULE'!Q33","v":0},{"$f":"'TAB 10 POULE'!R33","v":0},{"$f":"'TAB 10 POULE'!S33","v":0},"",""]
[null,null,"A",1,17,"15:40:00",1,{"$f":"'TAB 10 POULE'!D17","v":"T / 5"},{"$f":"'TAB 10 POULE'!D19","v":"T / 8"},0,0,{"$f":"'TAB 10 POULE'!N21","v":0},{"$f":"'TAB 10 POULE'!O21","v":0},{"$f":"'TAB 10 POULE'!P21","v":0},{"$f":"'TAB 10 POULE'!Q21","v":0},{"$f":"'TAB 10 POULE'!R21","v":0},{"$f":"'TAB 10 POULE'!S21","v":0},"",""]
[null,null,"B",1,18,"15:40:00",2,{"$f":"'TAB 10 POULE'!D30","v":"T / 6"},{"$f":"'TAB 10 POULE'!D32","v":"T / 7"},0,0,{"$f":"'TAB 10 POULE'!N34","v":0},{"$f":"'TAB 10 POULE'!O34","v":0},{"$f":"'TAB 10 POULE'!P34","v":0},{"$f":"'TAB 10 POULE'!Q34","v":0},{"$f":"'TAB 10 POULE'!R34","v":0},{"$f":"'TAB 10 POULE'!S34","v":0},"",""]
[null,null,"A",1,19,"16:30:00",1,{"$f":"'TAB 10 POULE'!D13","v":"T / 1"},{"$f":"'TAB 10 POULE'!D15","v":"T / 4"},0,0,{"$f":"'TAB 10 POULE'!N22","v":0},{"$f":"'TAB 10 POULE'!O22","v":0},{"$f":"'TAB 10 POULE'!P22","v":0},{"$f":"'TAB 10 POULE'!Q22","v":0},{"$f":"'TAB 10 POULE'!R22","v":0},{"$f":"'TAB 10 POULE'!S22","v":0},"",""]
[null,null,"B",1,20,"16:30:00",2,{"$f":"'TAB 10 POULE'!D26","v":"T / 2"},{"$f":"'TAB 10 POULE'!D28","v":"T / 3"},0,0,{"$f":"'TAB 10 POULE'!N35","v":0},{"$f":"'TAB 10 POULE'!O35","v":0},{"$f":"'TAB 10 POULE'!P35","v":0},{"$f":"'TAB 10 POULE'!Q35","v":0},{"$f":"'TAB 10 POULE'!R35","v":0},{"$f":"'TAB 10 POULE'!S35","v":0},"",""]
[null,null,"1/4",1,21,"17:20:00",1,{"$f":"AH8","v":""},{"$f":"AH17","v":""},0,0,{"$f":"IF('TAB 10 POULE'!F41=\"\",\"\",'TAB 10 POULE'!F41)","v":""},{"$f":"IF('TAB 10 POULE'!F42=\"\",\"\",'TAB 10 POULE'!F42)","v":""},{"$f":"IF('TAB 10 POULE'!G41=\"\",\"\",'TAB 10 POULE'!G41)","v":""},{"$f":"IF('TAB 10 POULE'!G42=\"\",\"\",'TAB 10 POULE'!G42)","v":""},{"$f":"IF('TAB 10 POULE'!H41=\"\",\"\",'TAB 10 POULE'!H41)","v":""},{"$f":"IF('TAB 10 POULE'!H42=\"\",\"\",'TAB 10 POULE'!H42)","v":""},"",""]
[null,null,"1/4",1,22,"17:20:00",2,{"$f":"AH15","v":""},{"$f":"AH10","v":""},0,0,{"$f":"IF('TAB 10 POULE'!F47=\"\",\"\",'TAB 10 POULE'!F47)","v":""},{"$f":"IF('TAB 10 POULE'!F48=\"\",\"\",'TAB 10 POULE'!F48)","v":""},{"$f":"IF('TAB 10 POULE'!G47=\"\",\"\",'TAB 10 POULE'!G47)","v":""},{"$f":"IF('TAB 10 POULE'!G48=\"\",\"\",'TAB 10 POULE'!G48)","v":""},{"$f":"IF('TAB 10 POULE'!H47=\"\",\"\",'TAB 10 POULE'!H47)","v":""},{"$f":"IF('TAB 10 POULE'!H48=\"\",\"\",'TAB 10 POULE'!H48)","v":""},"",""]
[null,null,"1/4",1,23,"18:10:00",1,{"$f":"AH9","v":""},{"$f":"AH16","v":""},0,0,{"$f":"IF('TAB 10 POULE'!F53=\"\",\"\",'TAB 10 POULE'!F53)","v":""},{"$f":"IF('TAB 10 POULE'!F54=\"\",\"\",'TAB 10 POULE'!F54)","v":""},{"$f":"IF('TAB 10 POULE'!G53=\"\",\"\",'TAB 10 POULE'!G53)","v":""},{"$f":"IF('TAB 10 POULE'!G54=\"\",\"\",'TAB 10 POULE'!G54)","v":""},{"$f":"IF('TAB 10 POULE'!H53=\"\",\"\",'TAB 10 POULE'!H53)","v":""},{"$f":"IF('TAB 10 POULE'!H54=\"\",\"\",'TAB 10 POULE'!H54)","v":""},{"$f":"IF(J30=K30,\"\",IF(J30>K30,H30,I30))","v":""},""]
[null,null,"1/4",1,24,"18:10:00",2,{"$f":"AH14","v":""},{"$f":"AH11","v":""},0,0,{"$f":"IF('TAB 10 POULE'!F59=\"\",\"\",'TAB 10 POULE'!F59)","v":""},{"$f":"IF('TAB 10 POULE'!F60=\"\",\"\",'TAB 10 POULE'!F60)","v":""},{"$f":"IF('TAB 10 POULE'!G59=\"\",\"\",'TAB 10 POULE'!G59)","v":""},{"$f":"IF('TAB 10 POULE'!G59=\"\",\"\",'TAB 10 POULE'!G60)","v":""},{"$f":"IF('TAB 10 POULE'!H59=\"\",\"\",'TAB 10 POULE'!H59)","v":""},{"$f":"IF('TAB 10 POULE'!H60=\"\",\"\",'TAB 10 POULE'!H60)","v":""},"",""]
[null,null,"1/2",1,25,"19:00:00",1,{"$f":"R28","v":""},{"$f":"R29","v":""},0,0,{"$f":"IF('TAB 10 POULE'!Q43=\"\",\"\",'TAB 10 POULE'!Q43)","v":""},{"$f":"IF('TAB 10 POULE'!Q44=\"\",\"\",'TAB 10 POULE'!Q44)","v":""},{"$f":"IF('TAB 10 POULE'!R43=\"\",\"\",'TAB 10 POULE'!R43)","v":""},{"$f":"IF('TAB 10 POULE'!R44=\"\",\"\",'TAB 10 POULE'!R44)","v":""},{"$f":"IF('TAB 10 POULE'!S43=\"\",\"\",'TAB 10 POULE'!S43)","v":""},{"$f":"IF('TAB 10 POULE'!S44=\"\",\"\",'TAB 10 POULE'!S44)","v":""},"",""]
[null,null,"1/2",1,26,{"$f":"F32+$B$4","v":"19:50:00"},1,{"$f":"R30","v":""},{"$f":"R31","v":""},0,0,{"$f":"IF('TAB 10 POULE'!Q56=\"\",\"\",'TAB 10 POULE'!Q56)","v":""},{"$f":"IF('TAB 10 POULE'!Q57=\"\",\"\",'TAB 10 POULE'!Q57)","v":""},{"$f":"IF('TAB 10 POULE'!R56=\"\",\"\",'TAB 10 POULE'!R57)","v":""},{"$f":"IF('TAB 10 POULE'!R56=\"\",\"\",'TAB 10 POULE'!R57)","v":""},{"$f":"IF('TAB 10 POULE'!S56=\"\",\"\",'TAB 10 POULE'!S56)","v":""},{"$f":"IF('TAB 10 POULE'!S57=\"\",\"\",'TAB 10 POULE'!S57)","v":""},{"$f":"IF(J33=K33,\"\",IF(J33>K33,H33,I33))","v":""},""]
[null,null,"PF",1,27,{"$f":"F33+$B$4","v":"20:40:00"},1,{"$f":"S32","v":""},{"$f":"S33","v":""},0,0,{"$f":"IF('TAB 10 POULE'!X66=\"\",\"\",'TAB 10 POULE'!X66)","v":""},{"$f":"IF('TAB 10 POULE'!X67=\"\",\"\",'TAB 10 POULE'!X67)","v":""},{"$f":"IF('TAB 10 POULE'!Y66=\"\",\"\",'TAB 10 POULE'!Y66)","v":""},{"$f":"IF('TAB 10 POULE'!Y67=\"\",\"\",'TAB 10 POULE'!Y67)","v":""},{"$f":"IF('TAB 10 POULE'!Z66=\"\",\"\",'TAB 10 POULE'!Z66)","v":""},{"$f":"IF('TAB 10 POULE'!Z67=\"\",\"\",'TAB 10 POULE'!Z67)","v":""},{"$f":"IF(J34=K34,\"\",IF(J34>K34,H34,I34))","v":""},""]
[null,null,"F",1,28,"21:30:00",1,{"$f":"R32","v":""},{"$f":"R33","v":""},0,0,{"$f":"IF('TAB 10 POULE'!X49=\"\",\"\",'TAB 10 POULE'!X49)","v":""},{"$f":"IF('TAB 10 POULE'!X50=\"\",\"\",'TAB 10 POULE'!X50)","v":""},{"$f":"IF('TAB 10 POULE'!Y49=\"\",\"\",'TAB 10 POULE'!Y49)","v":""},{"$f":"IF('TAB 10 POULE'!Y5=\"\",\"\",'TAB 10 POULE'!Y50)","v":""},{"$f":"IF('TAB 10 POULE'!Z49=\"\",\"\",'TAB 10 POULE'!Z49)","v":""},{"$f":"IF('TAB 10 POULE'!Z50=\"\",\"\",'TAB 10 POULE'!Z50)","v":""},{"$f":"IF(J35=K35,\"\",IF(J35>K35,H35,I35))","v":""},""]